BEGIN:VCALENDAR
VERSION:2.0
PRODID:-//Brookwood School District 167 - ECPv6.15.20//NONSGML v1.0//EN
CALSCALE:GREGORIAN
METHOD:PUBLISH
X-WR-CALNAME:Brookwood School District 167
X-ORIGINAL-URL:https://www.brookwood167.org
X-WR-CALDESC:Events for Brookwood School District 167
REFRESH-INTERVAL;VALUE=DURATION:PT1H
X-Robots-Tag:noindex
X-PUBLISHED-TTL:PT1H
BEGIN:VTIMEZONE
TZID:America/Chicago
BEGIN:DAYLIGHT
TZOFFSETFROM:-0600
TZOFFSETTO:-0500
TZNAME:CDT
DTSTART:20220313T080000
END:DAYLIGHT
BEGIN:STANDARD
TZOFFSETFROM:-0500
TZOFFSETTO:-0600
TZNAME:CST
DTSTART:20221106T070000
END:STANDARD
BEGIN:DAYLIGHT
TZOFFSETFROM:-0600
TZOFFSETTO:-0500
TZNAME:CDT
DTSTART:20230312T080000
END:DAYLIGHT
BEGIN:STANDARD
TZOFFSETFROM:-0500
TZOFFSETTO:-0600
TZNAME:CST
DTSTART:20231105T070000
END:STANDARD
BEGIN:DAYLIGHT
TZOFFSETFROM:-0600
TZOFFSETTO:-0500
TZNAME:CDT
DTSTART:20240310T080000
END:DAYLIGHT
BEGIN:STANDARD
TZOFFSETFROM:-0500
TZOFFSETTO:-0600
TZNAME:CST
DTSTART:20241103T070000
END:STANDARD
END:VTIMEZONE
BEGIN:VEVENT
DTSTART;VALUE=DATE:20231129
DTEND;VALUE=DATE:20231130
DTSTAMP:20260424T111745
CREATED:20231107T152559Z
LAST-MODIFIED:20231107T152559Z
UID:10000537-1701216000-1701302399@www.brookwood167.org
SUMMARY:NWEA MAP Winter Benchmark Assessment
DESCRIPTION:
URL:https://www.brookwood167.org/event/nwea-map-winter-benchmark-assessment/
LOCATION:Brookwood Junior High School\, 201 Glenwood-Lansing Road\, Glenwood\, IL\, 60425\, United States
CATEGORIES:Brookwood 167,Brookwood Junior High School
ATTACH;FMTTYPE=image/png:https://brookwood167.wpenginepowered.com/wp-content/uploads/2023/11/large_2a525489-4e8e-41fe-9564-7031bc0c635c.png
GEO:41.5426434;-87.6060281
X-APPLE-STRUCTURED-LOCATION;VALUE=URI;X-ADDRESS=Brookwood Junior High School 201 Glenwood-Lansing Road Glenwood IL 60425 United States;X-APPLE-RADIUS=500;X-TITLE=201 Glenwood-Lansing Road:geo:-87.6060281,41.5426434
END:VEVENT
BEGIN:VEVENT
DTSTART;TZID=America/Chicago:20231129T161500
DTEND;TZID=America/Chicago:20231129T180000
DTSTAMP:20260424T111745
CREATED:20241201T152154Z
LAST-MODIFIED:20241201T152257Z
UID:10000687-1701274500-1701280800@www.brookwood167.org
SUMMARY:Boys Basketball (home) Vs. Crete
DESCRIPTION:
URL:https://www.brookwood167.org/event/boys-basketball-home-vs-crete-2/2023-11-29/
LOCATION:Brookwood Junior High School\, 201 Glenwood-Lansing Road\, Glenwood\, IL\, 60425\, United States
CATEGORIES:Brookwood 167,Brookwood Junior High School
ATTACH;FMTTYPE=image/jpeg:https://brookwood167.wpenginepowered.com/wp-content/uploads/2023/09/iStock-1472626990.jpg
GEO:41.5426434;-87.6060281
X-APPLE-STRUCTURED-LOCATION;VALUE=URI;X-ADDRESS=Brookwood Junior High School 201 Glenwood-Lansing Road Glenwood IL 60425 United States;X-APPLE-RADIUS=500;X-TITLE=201 Glenwood-Lansing Road:geo:-87.6060281,41.5426434
END:VEVENT
BEGIN:VEVENT
DTSTART;TZID=America/Chicago:20231129T161500
DTEND;TZID=America/Chicago:20231129T181500
DTSTAMP:20260424T111745
CREATED:20231107T152813Z
LAST-MODIFIED:20231107T152813Z
UID:10000538-1701274500-1701281700@www.brookwood167.org
SUMMARY:Boys Basketball (home) Vs. Crete
DESCRIPTION:
URL:https://www.brookwood167.org/event/boys-basketball-home-vs-crete/
LOCATION:Brookwood Junior High School\, 201 Glenwood-Lansing Road\, Glenwood\, IL\, 60425\, United States
CATEGORIES:Brookwood 167,Brookwood Junior High School
ATTACH;FMTTYPE=image/jpeg:https://brookwood167.wpenginepowered.com/wp-content/uploads/2023/09/iStock-1472626990.jpg
GEO:41.5426434;-87.6060281
X-APPLE-STRUCTURED-LOCATION;VALUE=URI;X-ADDRESS=Brookwood Junior High School 201 Glenwood-Lansing Road Glenwood IL 60425 United States;X-APPLE-RADIUS=500;X-TITLE=201 Glenwood-Lansing Road:geo:-87.6060281,41.5426434
END:VEVENT
END:VCALENDAR