BEGIN:VCALENDAR
VERSION:2.0
PRODID:-//Brookwood School District 167 - ECPv6.15.20//NONSGML v1.0//EN
CALSCALE:GREGORIAN
METHOD:PUBLISH
X-ORIGINAL-URL:https://www.brookwood167.org
X-WR-CALDESC:Events for Brookwood School District 167
REFRESH-INTERVAL;VALUE=DURATION:PT1H
X-Robots-Tag:noindex
X-PUBLISHED-TTL:PT1H
BEGIN:VTIMEZONE
TZID:America/Chicago
BEGIN:DAYLIGHT
TZOFFSETFROM:-0600
TZOFFSETTO:-0500
TZNAME:CDT
DTSTART:20220313T080000
END:DAYLIGHT
BEGIN:STANDARD
TZOFFSETFROM:-0500
TZOFFSETTO:-0600
TZNAME:CST
DTSTART:20221106T070000
END:STANDARD
BEGIN:DAYLIGHT
TZOFFSETFROM:-0600
TZOFFSETTO:-0500
TZNAME:CDT
DTSTART:20230312T080000
END:DAYLIGHT
BEGIN:STANDARD
TZOFFSETFROM:-0500
TZOFFSETTO:-0600
TZNAME:CST
DTSTART:20231105T070000
END:STANDARD
BEGIN:DAYLIGHT
TZOFFSETFROM:-0600
TZOFFSETTO:-0500
TZNAME:CDT
DTSTART:20240310T080000
END:DAYLIGHT
BEGIN:STANDARD
TZOFFSETFROM:-0500
TZOFFSETTO:-0600
TZNAME:CST
DTSTART:20241103T070000
END:STANDARD
BEGIN:DAYLIGHT
TZOFFSETFROM:-0600
TZOFFSETTO:-0500
TZNAME:CDT
DTSTART:20250309T080000
END:DAYLIGHT
BEGIN:STANDARD
TZOFFSETFROM:-0500
TZOFFSETTO:-0600
TZNAME:CST
DTSTART:20251102T070000
END:STANDARD
BEGIN:DAYLIGHT
TZOFFSETFROM:-0600
TZOFFSETTO:-0500
TZNAME:CDT
DTSTART:20260308T080000
END:DAYLIGHT
BEGIN:STANDARD
TZOFFSETFROM:-0500
TZOFFSETTO:-0600
TZNAME:CST
DTSTART:20261101T070000
END:STANDARD
BEGIN:DAYLIGHT
TZOFFSETFROM:-0600
TZOFFSETTO:-0500
TZNAME:CDT
DTSTART:20270314T080000
END:DAYLIGHT
BEGIN:STANDARD
TZOFFSETFROM:-0500
TZOFFSETTO:-0600
TZNAME:CST
DTSTART:20271107T070000
END:STANDARD
END:VTIMEZONE
BEGIN:VEVENT
DTSTART;TZID=America/Chicago:20260413T190000
DTEND;TZID=America/Chicago:20260413T220000
DTSTAMP:20260425T053520
CREATED:20230908T202711Z
LAST-MODIFIED:20250609T132141Z
UID:10000709-1776106800-1776117600@www.brookwood167.org
SUMMARY:Board of Education (BOE) Meeting
DESCRIPTION:
URL:https://www.brookwood167.org/event/board-of-education-boe-meeting/2026-04-13/
LOCATION:Brookwood 167\, 201 Glenwood-Dyer Rd\, Glenwood\, IL\, 60425\, United States
CATEGORIES:Board Meetings
ATTACH;FMTTYPE=image/jpeg:https://brookwood167.wpenginepowered.com/wp-content/uploads/2023/08/iStock-10067018202.jpg
END:VEVENT
BEGIN:VEVENT
DTSTART;TZID=America/Chicago:20260316T190000
DTEND;TZID=America/Chicago:20260316T220000
DTSTAMP:20260425T053520
CREATED:20230908T202711Z
LAST-MODIFIED:20250609T132141Z
UID:10000708-1773687600-1773698400@www.brookwood167.org
SUMMARY:Board of Education (BOE) Meeting
DESCRIPTION:
URL:https://www.brookwood167.org/event/board-of-education-boe-meeting/2026-03-16/
LOCATION:Brookwood 167\, 201 Glenwood-Dyer Rd\, Glenwood\, IL\, 60425\, United States
CATEGORIES:Board Meetings
ATTACH;FMTTYPE=image/jpeg:https://brookwood167.wpenginepowered.com/wp-content/uploads/2023/08/iStock-10067018202.jpg
END:VEVENT
BEGIN:VEVENT
DTSTART;TZID=America/Chicago:20260209T190000
DTEND;TZID=America/Chicago:20260209T220000
DTSTAMP:20260425T053520
CREATED:20230908T202711Z
LAST-MODIFIED:20250609T132141Z
UID:10000707-1770663600-1770674400@www.brookwood167.org
SUMMARY:Board of Education (BOE) Meeting
DESCRIPTION:
URL:https://www.brookwood167.org/event/board-of-education-boe-meeting/2026-02-09/
LOCATION:Brookwood 167\, 201 Glenwood-Dyer Rd\, Glenwood\, IL\, 60425\, United States
CATEGORIES:Board Meetings
ATTACH;FMTTYPE=image/jpeg:https://brookwood167.wpenginepowered.com/wp-content/uploads/2023/08/iStock-10067018202.jpg
END:VEVENT
BEGIN:VEVENT
DTSTART;TZID=America/Chicago:20260112T190000
DTEND;TZID=America/Chicago:20260112T220000
DTSTAMP:20260425T053520
CREATED:20230908T202711Z
LAST-MODIFIED:20250609T132141Z
UID:10000706-1768244400-1768255200@www.brookwood167.org
SUMMARY:Board of Education (BOE) Meeting
DESCRIPTION:
URL:https://www.brookwood167.org/event/board-of-education-boe-meeting/2026-01-12/
LOCATION:Brookwood 167\, 201 Glenwood-Dyer Rd\, Glenwood\, IL\, 60425\, United States
CATEGORIES:Board Meetings
ATTACH;FMTTYPE=image/jpeg:https://brookwood167.wpenginepowered.com/wp-content/uploads/2023/08/iStock-10067018202.jpg
END:VEVENT
BEGIN:VEVENT
DTSTART;TZID=America/Chicago:20251215T190000
DTEND;TZID=America/Chicago:20251215T220000
DTSTAMP:20260425T053520
CREATED:20230908T202711Z
LAST-MODIFIED:20250609T132141Z
UID:10000705-1765825200-1765836000@www.brookwood167.org
SUMMARY:Board of Education (BOE) Meeting
DESCRIPTION:
URL:https://www.brookwood167.org/event/board-of-education-boe-meeting/2025-12-15/
LOCATION:Brookwood 167\, 201 Glenwood-Dyer Rd\, Glenwood\, IL\, 60425\, United States
CATEGORIES:Board Meetings
ATTACH;FMTTYPE=image/jpeg:https://brookwood167.wpenginepowered.com/wp-content/uploads/2023/08/iStock-10067018202.jpg
END:VEVENT
BEGIN:VEVENT
DTSTART;TZID=America/Chicago:20251117T190000
DTEND;TZID=America/Chicago:20251117T220000
DTSTAMP:20260425T053520
CREATED:20230908T202711Z
LAST-MODIFIED:20250609T132141Z
UID:10000704-1763406000-1763416800@www.brookwood167.org
SUMMARY:Board of Education (BOE) Meeting
DESCRIPTION:
URL:https://www.brookwood167.org/event/board-of-education-boe-meeting/2025-11-17/
LOCATION:Brookwood 167\, 201 Glenwood-Dyer Rd\, Glenwood\, IL\, 60425\, United States
CATEGORIES:Board Meetings
ATTACH;FMTTYPE=image/jpeg:https://brookwood167.wpenginepowered.com/wp-content/uploads/2023/08/iStock-10067018202.jpg
END:VEVENT
BEGIN:VEVENT
DTSTART;TZID=America/Chicago:20251020T190000
DTEND;TZID=America/Chicago:20251020T220000
DTSTAMP:20260425T053520
CREATED:20230908T202711Z
LAST-MODIFIED:20250609T132141Z
UID:10000703-1760986800-1760997600@www.brookwood167.org
SUMMARY:Board of Education (BOE) Meeting
DESCRIPTION:
URL:https://www.brookwood167.org/event/board-of-education-boe-meeting/2025-10-20/
LOCATION:Brookwood 167\, 201 Glenwood-Dyer Rd\, Glenwood\, IL\, 60425\, United States
CATEGORIES:Board Meetings
ATTACH;FMTTYPE=image/jpeg:https://brookwood167.wpenginepowered.com/wp-content/uploads/2023/08/iStock-10067018202.jpg
END:VEVENT
BEGIN:VEVENT
DTSTART;TZID=America/Chicago:20250915T190000
DTEND;TZID=America/Chicago:20250915T220000
DTSTAMP:20260425T053520
CREATED:20230908T202711Z
LAST-MODIFIED:20250609T132141Z
UID:10000702-1757962800-1757973600@www.brookwood167.org
SUMMARY:Board of Education (BOE) Meeting
DESCRIPTION:
URL:https://www.brookwood167.org/event/board-of-education-boe-meeting/2025-09-15/
LOCATION:Brookwood 167\, 201 Glenwood-Dyer Rd\, Glenwood\, IL\, 60425\, United States
CATEGORIES:Board Meetings
ATTACH;FMTTYPE=image/jpeg:https://brookwood167.wpenginepowered.com/wp-content/uploads/2023/08/iStock-10067018202.jpg
END:VEVENT
BEGIN:VEVENT
DTSTART;TZID=America/Chicago:20250811T190000
DTEND;TZID=America/Chicago:20250811T220000
DTSTAMP:20260425T053520
CREATED:20230908T202711Z
LAST-MODIFIED:20250609T132141Z
UID:10000701-1754938800-1754949600@www.brookwood167.org
SUMMARY:Board of Education (BOE) Meeting
DESCRIPTION:
URL:https://www.brookwood167.org/event/board-of-education-boe-meeting/2025-08-11/
LOCATION:Brookwood 167\, 201 Glenwood-Dyer Rd\, Glenwood\, IL\, 60425\, United States
CATEGORIES:Board Meetings
ATTACH;FMTTYPE=image/jpeg:https://brookwood167.wpenginepowered.com/wp-content/uploads/2023/08/iStock-10067018202.jpg
END:VEVENT
BEGIN:VEVENT
DTSTART;TZID=America/Chicago:20250714T190000
DTEND;TZID=America/Chicago:20250714T220000
DTSTAMP:20260425T053520
CREATED:20230908T202711Z
LAST-MODIFIED:20250609T132141Z
UID:10000700-1752519600-1752530400@www.brookwood167.org
SUMMARY:Board of Education (BOE) Meeting
DESCRIPTION:
URL:https://www.brookwood167.org/event/board-of-education-boe-meeting/2025-07-14/
LOCATION:Brookwood 167\, 201 Glenwood-Dyer Rd\, Glenwood\, IL\, 60425\, United States
CATEGORIES:Board Meetings
ATTACH;FMTTYPE=image/jpeg:https://brookwood167.wpenginepowered.com/wp-content/uploads/2023/08/iStock-10067018202.jpg
END:VEVENT
BEGIN:VEVENT
DTSTART;TZID=America/Chicago:20250609T190000
DTEND;TZID=America/Chicago:20250609T220000
DTSTAMP:20260425T053520
CREATED:20230908T202711Z
LAST-MODIFIED:20250609T132141Z
UID:10000646-1749495600-1749506400@www.brookwood167.org
SUMMARY:Board of Education (BOE) Meeting
DESCRIPTION:
URL:https://www.brookwood167.org/event/board-of-education-boe-meeting/2025-06-09/
LOCATION:Brookwood 167\, 201 Glenwood-Dyer Rd\, Glenwood\, IL\, 60425\, United States
CATEGORIES:Board Meetings
ATTACH;FMTTYPE=image/jpeg:https://brookwood167.wpenginepowered.com/wp-content/uploads/2023/08/iStock-10067018202.jpg
END:VEVENT
BEGIN:VEVENT
DTSTART;TZID=America/Chicago:20250512T190000
DTEND;TZID=America/Chicago:20250512T220000
DTSTAMP:20260425T053520
CREATED:20230908T202711Z
LAST-MODIFIED:20250609T132141Z
UID:10000645-1747076400-1747087200@www.brookwood167.org
SUMMARY:Board of Education (BOE) Meeting
DESCRIPTION:
URL:https://www.brookwood167.org/event/board-of-education-boe-meeting/2025-05-12/
LOCATION:Brookwood 167\, 201 Glenwood-Dyer Rd\, Glenwood\, IL\, 60425\, United States
CATEGORIES:Board Meetings
ATTACH;FMTTYPE=image/jpeg:https://brookwood167.wpenginepowered.com/wp-content/uploads/2023/08/iStock-10067018202.jpg
END:VEVENT
BEGIN:VEVENT
DTSTART;TZID=America/Chicago:20250414T190000
DTEND;TZID=America/Chicago:20250414T220000
DTSTAMP:20260425T053520
CREATED:20230908T202711Z
LAST-MODIFIED:20250609T132141Z
UID:10000644-1744657200-1744668000@www.brookwood167.org
SUMMARY:Board of Education (BOE) Meeting
DESCRIPTION:
URL:https://www.brookwood167.org/event/board-of-education-boe-meeting/2025-04-14/
LOCATION:Brookwood 167\, 201 Glenwood-Dyer Rd\, Glenwood\, IL\, 60425\, United States
CATEGORIES:Board Meetings
ATTACH;FMTTYPE=image/jpeg:https://brookwood167.wpenginepowered.com/wp-content/uploads/2023/08/iStock-10067018202.jpg
END:VEVENT
BEGIN:VEVENT
DTSTART;TZID=America/Chicago:20250310T190000
DTEND;TZID=America/Chicago:20250310T220000
DTSTAMP:20260425T053520
CREATED:20230908T202711Z
LAST-MODIFIED:20250609T132141Z
UID:10000643-1741633200-1741644000@www.brookwood167.org
SUMMARY:Board of Education (BOE) Meeting
DESCRIPTION:
URL:https://www.brookwood167.org/event/board-of-education-boe-meeting/2025-03-10/
LOCATION:Brookwood 167\, 201 Glenwood-Dyer Rd\, Glenwood\, IL\, 60425\, United States
CATEGORIES:Board Meetings
ATTACH;FMTTYPE=image/jpeg:https://brookwood167.wpenginepowered.com/wp-content/uploads/2023/08/iStock-10067018202.jpg
END:VEVENT
BEGIN:VEVENT
DTSTART;TZID=America/Chicago:20250210T190000
DTEND;TZID=America/Chicago:20250210T220000
DTSTAMP:20260425T053520
CREATED:20230908T202711Z
LAST-MODIFIED:20250609T132141Z
UID:10000642-1739214000-1739224800@www.brookwood167.org
SUMMARY:Board of Education (BOE) Meeting
DESCRIPTION:
URL:https://www.brookwood167.org/event/board-of-education-boe-meeting/2025-02-10/
LOCATION:Brookwood 167\, 201 Glenwood-Dyer Rd\, Glenwood\, IL\, 60425\, United States
CATEGORIES:Board Meetings
ATTACH;FMTTYPE=image/jpeg:https://brookwood167.wpenginepowered.com/wp-content/uploads/2023/08/iStock-10067018202.jpg
END:VEVENT
BEGIN:VEVENT
DTSTART;TZID=America/Chicago:20250113T190000
DTEND;TZID=America/Chicago:20250113T220000
DTSTAMP:20260425T053520
CREATED:20230908T202711Z
LAST-MODIFIED:20250609T132141Z
UID:10000641-1736794800-1736805600@www.brookwood167.org
SUMMARY:Board of Education (BOE) Meeting
DESCRIPTION:
URL:https://www.brookwood167.org/event/board-of-education-boe-meeting/2025-01-13/
LOCATION:Brookwood 167\, 201 Glenwood-Dyer Rd\, Glenwood\, IL\, 60425\, United States
CATEGORIES:Board Meetings
ATTACH;FMTTYPE=image/jpeg:https://brookwood167.wpenginepowered.com/wp-content/uploads/2023/08/iStock-10067018202.jpg
END:VEVENT
BEGIN:VEVENT
DTSTART;TZID=America/Chicago:20241216T190000
DTEND;TZID=America/Chicago:20241216T220000
DTSTAMP:20260425T053520
CREATED:20230908T202711Z
LAST-MODIFIED:20250609T132141Z
UID:10000640-1734375600-1734386400@www.brookwood167.org
SUMMARY:Board of Education (BOE) Meeting
DESCRIPTION:
URL:https://www.brookwood167.org/event/board-of-education-boe-meeting/2024-12-16/
LOCATION:Brookwood 167\, 201 Glenwood-Dyer Rd\, Glenwood\, IL\, 60425\, United States
CATEGORIES:Board Meetings
ATTACH;FMTTYPE=image/jpeg:https://brookwood167.wpenginepowered.com/wp-content/uploads/2023/08/iStock-10067018202.jpg
END:VEVENT
BEGIN:VEVENT
DTSTART;TZID=America/Chicago:20241118T190000
DTEND;TZID=America/Chicago:20241118T220000
DTSTAMP:20260425T053520
CREATED:20230908T202711Z
LAST-MODIFIED:20250609T132141Z
UID:10000639-1731956400-1731967200@www.brookwood167.org
SUMMARY:Board of Education (BOE) Meeting
DESCRIPTION:
URL:https://www.brookwood167.org/event/board-of-education-boe-meeting/2024-11-18/
LOCATION:Brookwood 167\, 201 Glenwood-Dyer Rd\, Glenwood\, IL\, 60425\, United States
CATEGORIES:Board Meetings
ATTACH;FMTTYPE=image/jpeg:https://brookwood167.wpenginepowered.com/wp-content/uploads/2023/08/iStock-10067018202.jpg
END:VEVENT
BEGIN:VEVENT
DTSTART;TZID=America/Chicago:20241021T190000
DTEND;TZID=America/Chicago:20241021T220000
DTSTAMP:20260425T053520
CREATED:20230908T202711Z
LAST-MODIFIED:20250609T132141Z
UID:10000638-1729537200-1729548000@www.brookwood167.org
SUMMARY:Board of Education (BOE) Meeting
DESCRIPTION:
URL:https://www.brookwood167.org/event/board-of-education-boe-meeting/2024-10-21/
LOCATION:Brookwood 167\, 201 Glenwood-Dyer Rd\, Glenwood\, IL\, 60425\, United States
CATEGORIES:Board Meetings
ATTACH;FMTTYPE=image/jpeg:https://brookwood167.wpenginepowered.com/wp-content/uploads/2023/08/iStock-10067018202.jpg
END:VEVENT
BEGIN:VEVENT
DTSTART;TZID=America/Chicago:20240916T190000
DTEND;TZID=America/Chicago:20240916T220000
DTSTAMP:20260425T053520
CREATED:20230908T202711Z
LAST-MODIFIED:20250609T132141Z
UID:10000637-1726513200-1726524000@www.brookwood167.org
SUMMARY:Board of Education (BOE) Meeting
DESCRIPTION:
URL:https://www.brookwood167.org/event/board-of-education-boe-meeting/2024-09-16/
LOCATION:Brookwood 167\, 201 Glenwood-Dyer Rd\, Glenwood\, IL\, 60425\, United States
CATEGORIES:Board Meetings
ATTACH;FMTTYPE=image/jpeg:https://brookwood167.wpenginepowered.com/wp-content/uploads/2023/08/iStock-10067018202.jpg
END:VEVENT
BEGIN:VEVENT
DTSTART;TZID=America/Chicago:20240812T190000
DTEND;TZID=America/Chicago:20240812T220000
DTSTAMP:20260425T053520
CREATED:20230908T202711Z
LAST-MODIFIED:20250609T132141Z
UID:10000636-1723489200-1723500000@www.brookwood167.org
SUMMARY:Board of Education (BOE) Meeting
DESCRIPTION:
URL:https://www.brookwood167.org/event/board-of-education-boe-meeting/2024-08-12/
LOCATION:Brookwood 167\, 201 Glenwood-Dyer Rd\, Glenwood\, IL\, 60425\, United States
CATEGORIES:Board Meetings
ATTACH;FMTTYPE=image/jpeg:https://brookwood167.wpenginepowered.com/wp-content/uploads/2023/08/iStock-10067018202.jpg
END:VEVENT
BEGIN:VEVENT
DTSTART;TZID=America/Chicago:20240708T190000
DTEND;TZID=America/Chicago:20240708T220000
DTSTAMP:20260425T053520
CREATED:20230908T202711Z
LAST-MODIFIED:20250609T132141Z
UID:10000635-1720465200-1720476000@www.brookwood167.org
SUMMARY:Board of Education (BOE) Meeting
DESCRIPTION:
URL:https://www.brookwood167.org/event/board-of-education-boe-meeting/2024-07-08/
LOCATION:Brookwood 167\, 201 Glenwood-Dyer Rd\, Glenwood\, IL\, 60425\, United States
CATEGORIES:Board Meetings
ATTACH;FMTTYPE=image/jpeg:https://brookwood167.wpenginepowered.com/wp-content/uploads/2023/08/iStock-10067018202.jpg
END:VEVENT
BEGIN:VEVENT
DTSTART;TZID=America/Chicago:20240610T190000
DTEND;TZID=America/Chicago:20240610T220000
DTSTAMP:20260425T053520
CREATED:20230908T202711Z
LAST-MODIFIED:20250609T132141Z
UID:10000595-1718046000-1718056800@www.brookwood167.org
SUMMARY:Board of Education (BOE) Meeting
DESCRIPTION:
URL:https://www.brookwood167.org/event/board-of-education-boe-meeting/2024-06-10/
LOCATION:Brookwood 167\, 201 Glenwood-Dyer Rd\, Glenwood\, IL\, 60425\, United States
CATEGORIES:Board Meetings
ATTACH;FMTTYPE=image/jpeg:https://brookwood167.wpenginepowered.com/wp-content/uploads/2023/08/iStock-10067018202.jpg
END:VEVENT
BEGIN:VEVENT
DTSTART;TZID=America/Chicago:20240513T190000
DTEND;TZID=America/Chicago:20240513T220000
DTSTAMP:20260425T053520
CREATED:20230908T202711Z
LAST-MODIFIED:20250609T132141Z
UID:10000594-1715626800-1715637600@www.brookwood167.org
SUMMARY:Board of Education (BOE) Meeting
DESCRIPTION:
URL:https://www.brookwood167.org/event/board-of-education-boe-meeting/2024-05-13/
LOCATION:Brookwood 167\, 201 Glenwood-Dyer Rd\, Glenwood\, IL\, 60425\, United States
CATEGORIES:Board Meetings
ATTACH;FMTTYPE=image/jpeg:https://brookwood167.wpenginepowered.com/wp-content/uploads/2023/08/iStock-10067018202.jpg
END:VEVENT
BEGIN:VEVENT
DTSTART;TZID=America/Chicago:20240415T190000
DTEND;TZID=America/Chicago:20240415T220000
DTSTAMP:20260425T053520
CREATED:20230908T202711Z
LAST-MODIFIED:20250609T132141Z
UID:10000593-1713207600-1713218400@www.brookwood167.org
SUMMARY:Board of Education (BOE) Meeting
DESCRIPTION:
URL:https://www.brookwood167.org/event/board-of-education-boe-meeting/2024-04-15/
LOCATION:Brookwood 167\, 201 Glenwood-Dyer Rd\, Glenwood\, IL\, 60425\, United States
CATEGORIES:Board Meetings
ATTACH;FMTTYPE=image/jpeg:https://brookwood167.wpenginepowered.com/wp-content/uploads/2023/08/iStock-10067018202.jpg
END:VEVENT
BEGIN:VEVENT
DTSTART;TZID=America/Chicago:20240411T190000
DTEND;TZID=America/Chicago:20240411T220000
DTSTAMP:20260425T053520
CREATED:20230908T202711Z
LAST-MODIFIED:20250609T132141Z
UID:10000699-1712862000-1712872800@www.brookwood167.org
SUMMARY:Board of Education (BOE) Meeting
DESCRIPTION:
URL:https://www.brookwood167.org/event/board-of-education-boe-meeting/2024-04-11/
LOCATION:Brookwood 167\, 201 Glenwood-Dyer Rd\, Glenwood\, IL\, 60425\, United States
CATEGORIES:Board Meetings
ATTACH;FMTTYPE=image/jpeg:https://brookwood167.wpenginepowered.com/wp-content/uploads/2023/08/iStock-10067018202.jpg
END:VEVENT
BEGIN:VEVENT
DTSTART;TZID=America/Chicago:20240311T190000
DTEND;TZID=America/Chicago:20240311T220000
DTSTAMP:20260425T053521
CREATED:20230908T202711Z
LAST-MODIFIED:20250609T132141Z
UID:10000592-1710183600-1710194400@www.brookwood167.org
SUMMARY:Board of Education (BOE) Meeting
DESCRIPTION:
URL:https://www.brookwood167.org/event/board-of-education-boe-meeting/2024-03-11/
LOCATION:Brookwood 167\, 201 Glenwood-Dyer Rd\, Glenwood\, IL\, 60425\, United States
CATEGORIES:Board Meetings
ATTACH;FMTTYPE=image/jpeg:https://brookwood167.wpenginepowered.com/wp-content/uploads/2023/08/iStock-10067018202.jpg
END:VEVENT
BEGIN:VEVENT
DTSTART;TZID=America/Chicago:20240212T190000
DTEND;TZID=America/Chicago:20240212T220000
DTSTAMP:20260425T053521
CREATED:20230908T202711Z
LAST-MODIFIED:20250609T132141Z
UID:10000591-1707764400-1707775200@www.brookwood167.org
SUMMARY:Board of Education (BOE) Meeting
DESCRIPTION:
URL:https://www.brookwood167.org/event/board-of-education-boe-meeting/2024-02-12/
LOCATION:Brookwood 167\, 201 Glenwood-Dyer Rd\, Glenwood\, IL\, 60425\, United States
CATEGORIES:Board Meetings
ATTACH;FMTTYPE=image/jpeg:https://brookwood167.wpenginepowered.com/wp-content/uploads/2023/08/iStock-10067018202.jpg
END:VEVENT
BEGIN:VEVENT
DTSTART;TZID=America/Chicago:20240122T190000
DTEND;TZID=America/Chicago:20240122T220000
DTSTAMP:20260425T053521
CREATED:20230908T202711Z
LAST-MODIFIED:20250609T132141Z
UID:10000590-1705950000-1705960800@www.brookwood167.org
SUMMARY:Board of Education (BOE) Meeting
DESCRIPTION:
URL:https://www.brookwood167.org/event/board-of-education-boe-meeting/2024-01-22/
LOCATION:Brookwood 167\, 201 Glenwood-Dyer Rd\, Glenwood\, IL\, 60425\, United States
CATEGORIES:Board Meetings
ATTACH;FMTTYPE=image/jpeg:https://brookwood167.wpenginepowered.com/wp-content/uploads/2023/08/iStock-10067018202.jpg
END:VEVENT
BEGIN:VEVENT
DTSTART;TZID=America/Chicago:20231211T190000
DTEND;TZID=America/Chicago:20231211T220000
DTSTAMP:20260425T053521
CREATED:20230908T202711Z
LAST-MODIFIED:20250609T132141Z
UID:10000589-1702321200-1702332000@www.brookwood167.org
SUMMARY:Board of Education (BOE) Meeting
DESCRIPTION:
URL:https://www.brookwood167.org/event/board-of-education-boe-meeting/2023-12-11/
LOCATION:Brookwood 167\, 201 Glenwood-Dyer Rd\, Glenwood\, IL\, 60425\, United States
CATEGORIES:Board Meetings
ATTACH;FMTTYPE=image/jpeg:https://brookwood167.wpenginepowered.com/wp-content/uploads/2023/08/iStock-10067018202.jpg
END:VEVENT
END:VCALENDAR