BEGIN:VCALENDAR
VERSION:2.0
PRODID:-//Brookwood School District 167 - ECPv6.15.20//NONSGML v1.0//EN
CALSCALE:GREGORIAN
METHOD:PUBLISH
X-ORIGINAL-URL:https://www.brookwood167.org
X-WR-CALDESC:Events for Brookwood School District 167
REFRESH-INTERVAL;VALUE=DURATION:PT1H
X-Robots-Tag:noindex
X-PUBLISHED-TTL:PT1H
BEGIN:VTIMEZONE
TZID:America/Chicago
BEGIN:DAYLIGHT
TZOFFSETFROM:-0600
TZOFFSETTO:-0500
TZNAME:CDT
DTSTART:20220313T080000
END:DAYLIGHT
BEGIN:STANDARD
TZOFFSETFROM:-0500
TZOFFSETTO:-0600
TZNAME:CST
DTSTART:20221106T070000
END:STANDARD
BEGIN:DAYLIGHT
TZOFFSETFROM:-0600
TZOFFSETTO:-0500
TZNAME:CDT
DTSTART:20230312T080000
END:DAYLIGHT
BEGIN:STANDARD
TZOFFSETFROM:-0500
TZOFFSETTO:-0600
TZNAME:CST
DTSTART:20231105T070000
END:STANDARD
BEGIN:DAYLIGHT
TZOFFSETFROM:-0600
TZOFFSETTO:-0500
TZNAME:CDT
DTSTART:20240310T080000
END:DAYLIGHT
BEGIN:STANDARD
TZOFFSETFROM:-0500
TZOFFSETTO:-0600
TZNAME:CST
DTSTART:20241103T070000
END:STANDARD
END:VTIMEZONE
BEGIN:VEVENT
DTSTART;VALUE=DATE:20231107
DTEND;VALUE=DATE:20231108
DTSTAMP:20260425T053244
CREATED:20231107T130832Z
LAST-MODIFIED:20231107T130832Z
UID:10000525-1699315200-1699401599@www.brookwood167.org
SUMMARY:Mobile Dentist | BJHS
DESCRIPTION:
URL:https://www.brookwood167.org/event/mobile-dentist-bjhs/
LOCATION:Brookwood Junior High School\, 201 Glenwood-Lansing Road\, Glenwood\, IL\, 60425\, United States
CATEGORIES:Brookwood 167,Brookwood Junior High School
ATTACH;FMTTYPE=image/jpeg:https://brookwood167.wpenginepowered.com/wp-content/uploads/2023/11/iStock-1446040627.jpg
GEO:41.5426434;-87.6060281
X-APPLE-STRUCTURED-LOCATION;VALUE=URI;X-ADDRESS=Brookwood Junior High School 201 Glenwood-Lansing Road Glenwood IL 60425 United States;X-APPLE-RADIUS=500;X-TITLE=201 Glenwood-Lansing Road:geo:-87.6060281,41.5426434
END:VEVENT
BEGIN:VEVENT
DTSTART;TZID=America/Chicago:20231107T161500
DTEND;TZID=America/Chicago:20231107T181500
DTSTAMP:20260425T053244
CREATED:20231107T131404Z
LAST-MODIFIED:20231107T131404Z
UID:10000526-1699373700-1699380900@www.brookwood167.org
SUMMARY:Boys Basketball @ Hart
DESCRIPTION:
URL:https://www.brookwood167.org/event/boys-basketball-hart/
LOCATION:James Hart School\, 18220 Morgan St\, Homewood\, 60430\, United States
CATEGORIES:Brookwood 167,Brookwood Junior High School
ATTACH;FMTTYPE=image/jpeg:https://brookwood167.wpenginepowered.com/wp-content/uploads/2023/09/iStock-1472626990.jpg
END:VEVENT
BEGIN:VEVENT
DTSTART;TZID=America/Chicago:20231107T161500
DTEND;TZID=America/Chicago:20231107T181500
DTSTAMP:20260425T053244
CREATED:20231107T131931Z
LAST-MODIFIED:20231107T131931Z
UID:10000527-1699373700-1699380900@www.brookwood167.org
SUMMARY:Girls Basketball (home) Vs. Lansing Memorial
DESCRIPTION:
URL:https://www.brookwood167.org/event/girls-basketball-home-vs-lansing-memorial/
LOCATION:Brookwood Junior High School\, 201 Glenwood-Lansing Road\, Glenwood\, IL\, 60425\, United States
CATEGORIES:Brookwood 167,Brookwood Junior High School
ATTACH;FMTTYPE=image/jpeg:https://brookwood167.wpenginepowered.com/wp-content/uploads/2023/09/iStock-1472627006.jpg
GEO:41.5426434;-87.6060281
X-APPLE-STRUCTURED-LOCATION;VALUE=URI;X-ADDRESS=Brookwood Junior High School 201 Glenwood-Lansing Road Glenwood IL 60425 United States;X-APPLE-RADIUS=500;X-TITLE=201 Glenwood-Lansing Road:geo:-87.6060281,41.5426434
END:VEVENT
BEGIN:VEVENT
DTSTART;VALUE=DATE:20231108
DTEND;VALUE=DATE:20231109
DTSTAMP:20260425T053244
CREATED:20231107T132420Z
LAST-MODIFIED:20231107T132420Z
UID:10000528-1699430400-1699462800@www.brookwood167.org
SUMMARY:Conflict Resolution Training | BJHS 7th Grade
DESCRIPTION:
URL:https://www.brookwood167.org/event/conflict-resolution-training-bjhs-7th-grade/2023-11-08/
LOCATION:Brookwood Junior High School\, 201 Glenwood-Lansing Road\, Glenwood\, IL\, 60425\, United States
CATEGORIES:Brookwood 167,Brookwood Junior High School
ATTACH;FMTTYPE=image/jpeg:https://brookwood167.wpenginepowered.com/wp-content/uploads/2023/09/iStock-1334624967.jpg
GEO:41.5426434;-87.6060281
X-APPLE-STRUCTURED-LOCATION;VALUE=URI;X-ADDRESS=Brookwood Junior High School 201 Glenwood-Lansing Road Glenwood IL 60425 United States;X-APPLE-RADIUS=500;X-TITLE=201 Glenwood-Lansing Road:geo:-87.6060281,41.5426434
END:VEVENT
BEGIN:VEVENT
DTSTART;TZID=America/Chicago:20231108T153000
DTEND;TZID=America/Chicago:20231108T170000
DTSTAMP:20260425T053244
CREATED:20231107T132729Z
LAST-MODIFIED:20231107T132729Z
UID:10000530-1699457400-1699462800@www.brookwood167.org
SUMMARY:Girls Basketball (home) Vs. Huth
DESCRIPTION:
URL:https://www.brookwood167.org/event/girls-basketball-home-vs-huth/
LOCATION:Brookwood Junior High School\, 201 Glenwood-Lansing Road\, Glenwood\, IL\, 60425\, United States
CATEGORIES:Brookwood 167,Brookwood Junior High School
ATTACH;FMTTYPE=image/jpeg:https://brookwood167.wpenginepowered.com/wp-content/uploads/2023/09/iStock-1472627006.jpg
GEO:41.5426434;-87.6060281
X-APPLE-STRUCTURED-LOCATION;VALUE=URI;X-ADDRESS=Brookwood Junior High School 201 Glenwood-Lansing Road Glenwood IL 60425 United States;X-APPLE-RADIUS=500;X-TITLE=201 Glenwood-Lansing Road:geo:-87.6060281,41.5426434
END:VEVENT
BEGIN:VEVENT
DTSTART;TZID=America/Chicago:20231109T103000
DTEND;TZID=America/Chicago:20231109T183000
DTSTAMP:20260425T053244
CREATED:20230821T132757Z
LAST-MODIFIED:20240731T150918Z
UID:10000462-1699525800-1699554600@www.brookwood167.org
SUMMARY:Parent/Teacher Conferences | Report Card Pick-Up | No School
DESCRIPTION:
URL:https://www.brookwood167.org/event/parent-teacher-conferences-report-card-pick-up-no-school/2023-11-09/
LOCATION:Brookwood 167\, 201 Glenwood-Dyer Rd\, Glenwood\, IL\, 60425\, United States
CATEGORIES:Brookwood 167,Brookwood Junior High School,Brookwood Middle School,Hickory Bend Elementary School,Longwood Elementary School
ATTACH;FMTTYPE=image/jpeg:https://brookwood167.wpenginepowered.com/wp-content/uploads/2023/08/iStock-1215581635.jpg
END:VEVENT
BEGIN:VEVENT
DTSTART;VALUE=DATE:20231110
DTEND;VALUE=DATE:20231111
DTSTAMP:20260425T053244
CREATED:20230821T135207Z
LAST-MODIFIED:20230821T135208Z
UID:10000463-1699574400-1699660799@www.brookwood167.org
SUMMARY:Veteran’s Day Holiday Observance | No School
DESCRIPTION:
URL:https://www.brookwood167.org/event/veterans-day-holiday-observance-no-school/
LOCATION:Brookwood 167\, 201 Glenwood-Dyer Rd\, Glenwood\, IL\, 60425\, United States
CATEGORIES:Brookwood 167
ATTACH;FMTTYPE=image/jpeg:https://brookwood167.wpenginepowered.com/wp-content/uploads/2023/08/iStock-1423034736.jpg
END:VEVENT
BEGIN:VEVENT
DTSTART;VALUE=DATE:20231111
DTEND;VALUE=DATE:20231112
DTSTAMP:20260425T053244
CREATED:20231107T133039Z
LAST-MODIFIED:20231107T133039Z
UID:10000531-1699660800-1699747199@www.brookwood167.org
SUMMARY:BJHS | IESA 7th Grade Girls Basketball Regionals
DESCRIPTION:
URL:https://www.brookwood167.org/event/bjhs-iesa-7th-grade-girls-basketball-regionals/
LOCATION:Brookwood Junior High School\, 201 Glenwood-Lansing Road\, Glenwood\, IL\, 60425\, United States
CATEGORIES:Brookwood 167,Brookwood Junior High School
ATTACH;FMTTYPE=image/jpeg:https://brookwood167.wpenginepowered.com/wp-content/uploads/2023/09/iStock-1472627006.jpg
GEO:41.5426434;-87.6060281
X-APPLE-STRUCTURED-LOCATION;VALUE=URI;X-ADDRESS=Brookwood Junior High School 201 Glenwood-Lansing Road Glenwood IL 60425 United States;X-APPLE-RADIUS=500;X-TITLE=201 Glenwood-Lansing Road:geo:-87.6060281,41.5426434
END:VEVENT
END:VCALENDAR