BEGIN:VCALENDAR
VERSION:2.0
PRODID:-//Brookwood School District 167 - ECPv6.15.20//NONSGML v1.0//EN
CALSCALE:GREGORIAN
METHOD:PUBLISH
X-ORIGINAL-URL:https://www.brookwood167.org
X-WR-CALDESC:Events for Brookwood School District 167
REFRESH-INTERVAL;VALUE=DURATION:PT1H
X-Robots-Tag:noindex
X-PUBLISHED-TTL:PT1H
BEGIN:VTIMEZONE
TZID:America/Chicago
BEGIN:DAYLIGHT
TZOFFSETFROM:-0600
TZOFFSETTO:-0500
TZNAME:CDT
DTSTART:20220313T080000
END:DAYLIGHT
BEGIN:STANDARD
TZOFFSETFROM:-0500
TZOFFSETTO:-0600
TZNAME:CST
DTSTART:20221106T070000
END:STANDARD
BEGIN:DAYLIGHT
TZOFFSETFROM:-0600
TZOFFSETTO:-0500
TZNAME:CDT
DTSTART:20230312T080000
END:DAYLIGHT
BEGIN:STANDARD
TZOFFSETFROM:-0500
TZOFFSETTO:-0600
TZNAME:CST
DTSTART:20231105T070000
END:STANDARD
BEGIN:DAYLIGHT
TZOFFSETFROM:-0600
TZOFFSETTO:-0500
TZNAME:CDT
DTSTART:20240310T080000
END:DAYLIGHT
BEGIN:STANDARD
TZOFFSETFROM:-0500
TZOFFSETTO:-0600
TZNAME:CST
DTSTART:20241103T070000
END:STANDARD
END:VTIMEZONE
BEGIN:VEVENT
DTSTART;TZID=America/Chicago:20231113T161500
DTEND;TZID=America/Chicago:20231113T181500
DTSTAMP:20260424T024122
CREATED:20231107T133651Z
LAST-MODIFIED:20231107T133651Z
UID:10000532-1699892100-1699899300@www.brookwood167.org
SUMMARY:Boys Basketball @ Memorial
DESCRIPTION:
URL:https://www.brookwood167.org/event/boys-basketball-memorial/
LOCATION:Lansing Memorial Jr High School\, 2721 Ridge Rd\, Lansing\, IL\, 60438\, United States
CATEGORIES:Brookwood 167,Brookwood Junior High School
ATTACH;FMTTYPE=image/jpeg:https://brookwood167.wpenginepowered.com/wp-content/uploads/2023/09/iStock-1472626990.jpg
END:VEVENT
BEGIN:VEVENT
DTSTART;TZID=America/Chicago:20231113T161500
DTEND;TZID=America/Chicago:20231113T181500
DTSTAMP:20260424T024122
CREATED:20231205T125505Z
LAST-MODIFIED:20231205T125505Z
UID:10000562-1699892100-1699899300@www.brookwood167.org
SUMMARY:Boys Basketball (home) Vs. Obama
DESCRIPTION:
URL:https://www.brookwood167.org/event/boys-basketball-home-vs-obama/
LOCATION:Brookwood Junior High School\, 201 Glenwood-Lansing Road\, Glenwood\, IL\, 60425\, United States
CATEGORIES:Brookwood 167,Brookwood Junior High School
ATTACH;FMTTYPE=image/jpeg:https://brookwood167.wpenginepowered.com/wp-content/uploads/2023/09/iStock-1472626990.jpg
GEO:41.5426434;-87.6060281
X-APPLE-STRUCTURED-LOCATION;VALUE=URI;X-ADDRESS=Brookwood Junior High School 201 Glenwood-Lansing Road Glenwood IL 60425 United States;X-APPLE-RADIUS=500;X-TITLE=201 Glenwood-Lansing Road:geo:-87.6060281,41.5426434
END:VEVENT
BEGIN:VEVENT
DTSTART;TZID=America/Chicago:20231113T173000
DTEND;TZID=America/Chicago:20231113T210000
DTSTAMP:20260424T024122
CREATED:20231107T145830Z
LAST-MODIFIED:20231107T145830Z
UID:10000533-1699896600-1699909200@www.brookwood167.org
SUMMARY:Glenwood Hawks Program Begins
DESCRIPTION:
URL:https://www.brookwood167.org/event/glenwood-hawks-program-begins/
LOCATION:Brookwood Junior High School\, 201 Glenwood-Lansing Road\, Glenwood\, IL\, 60425\, United States
CATEGORIES:Brookwood 167,Brookwood Junior High School
ATTACH;FMTTYPE=image/jpeg:https://brookwood167.wpenginepowered.com/wp-content/uploads/2023/09/iStock-1472626990.jpg
GEO:41.5426434;-87.6060281
X-APPLE-STRUCTURED-LOCATION;VALUE=URI;X-ADDRESS=Brookwood Junior High School 201 Glenwood-Lansing Road Glenwood IL 60425 United States;X-APPLE-RADIUS=500;X-TITLE=201 Glenwood-Lansing Road:geo:-87.6060281,41.5426434
END:VEVENT
BEGIN:VEVENT
DTSTART;TZID=America/Chicago:20231113T190000
DTEND;TZID=America/Chicago:20231113T220000
DTSTAMP:20260424T024122
CREATED:20230908T202711Z
LAST-MODIFIED:20250609T132141Z
UID:10000588-1699902000-1699912800@www.brookwood167.org
SUMMARY:Board of Education (BOE) Meeting
DESCRIPTION:
URL:https://www.brookwood167.org/event/board-of-education-boe-meeting/2023-11-13/
LOCATION:Brookwood 167\, 201 Glenwood-Dyer Rd\, Glenwood\, IL\, 60425\, United States
CATEGORIES:Board Meetings
ATTACH;FMTTYPE=image/jpeg:https://brookwood167.wpenginepowered.com/wp-content/uploads/2023/08/iStock-10067018202.jpg
END:VEVENT
BEGIN:VEVENT
DTSTART;VALUE=DATE:20231114
DTEND;VALUE=DATE:20231115
DTSTAMP:20260424T024122
CREATED:20231110T161008Z
LAST-MODIFIED:20231110T161009Z
UID:10000542-1699920000-1700006399@www.brookwood167.org
SUMMARY:Beta Club Induction Ceremony | LWS
DESCRIPTION:
URL:https://www.brookwood167.org/event/beta-club-induction-ceremony-lws/
LOCATION:Longwood Elementary School\, 441 Longwood Drive\, Glenwood\, IL\, 60425\, United States
CATEGORIES:Brookwood 167,Longwood Elementary School
ATTACH;FMTTYPE=image/png:https://brookwood167.wpenginepowered.com/wp-content/uploads/2023/11/BlackInsigniaPrint.png
GEO:41.5543804;-87.6312402
X-APPLE-STRUCTURED-LOCATION;VALUE=URI;X-ADDRESS=Longwood Elementary School 441 Longwood Drive Glenwood IL 60425 United States;X-APPLE-RADIUS=500;X-TITLE=441 Longwood Drive:geo:-87.6312402,41.5543804
END:VEVENT
BEGIN:VEVENT
DTSTART;TZID=America/Chicago:20231114T180000
DTEND;TZID=America/Chicago:20231114T200000
DTSTAMP:20260424T024122
CREATED:20231101T182031Z
LAST-MODIFIED:20231101T182032Z
UID:10000524-1699984800-1699992000@www.brookwood167.org
SUMMARY:Parent University | Cyberbullying | Virtual Meeting
DESCRIPTION:
URL:https://www.brookwood167.org/event/parent-university-cyberbullying-virtual-meeting/
LOCATION:Brookwood 167\, 201 Glenwood-Dyer Rd\, Glenwood\, IL\, 60425\, United States
CATEGORIES:Brookwood 167
ATTACH;FMTTYPE=image/png:https://brookwood167.wpenginepowered.com/wp-content/uploads/2023/11/PU_Nov-2023_Pg1.png
END:VEVENT
BEGIN:VEVENT
DTSTART;VALUE=DATE:20231115
DTEND;VALUE=DATE:20231116
DTSTAMP:20260424T024122
CREATED:20231115T162146Z
LAST-MODIFIED:20231115T162146Z
UID:10000546-1700006400-1700092799@www.brookwood167.org
SUMMARY:November 15th | School Board Members Day!
DESCRIPTION:
URL:https://www.brookwood167.org/event/november-15th-school-board-members-day/
LOCATION:Brookwood 167\, 201 Glenwood-Dyer Rd\, Glenwood\, IL\, 60425\, United States
CATEGORIES:Brookwood 167
ATTACH;FMTTYPE=image/jpeg:https://brookwood167.wpenginepowered.com/wp-content/uploads/2023/11/BOE-Thank-You-23-scaled.jpg
END:VEVENT
BEGIN:VEVENT
DTSTART;VALUE=DATE:20231115
DTEND;VALUE=DATE:20231116
DTSTAMP:20260424T024122
CREATED:20231107T132420Z
LAST-MODIFIED:20231107T132420Z
UID:10000529-1700035200-1700067600@www.brookwood167.org
SUMMARY:Conflict Resolution Training | BJHS 7th Grade
DESCRIPTION:
URL:https://www.brookwood167.org/event/conflict-resolution-training-bjhs-7th-grade/2023-11-15/
LOCATION:Brookwood Junior High School\, 201 Glenwood-Lansing Road\, Glenwood\, IL\, 60425\, United States
CATEGORIES:Brookwood 167,Brookwood Junior High School
ATTACH;FMTTYPE=image/jpeg:https://brookwood167.wpenginepowered.com/wp-content/uploads/2023/09/iStock-1334624967.jpg
GEO:41.5426434;-87.6060281
X-APPLE-STRUCTURED-LOCATION;VALUE=URI;X-ADDRESS=Brookwood Junior High School 201 Glenwood-Lansing Road Glenwood IL 60425 United States;X-APPLE-RADIUS=500;X-TITLE=201 Glenwood-Lansing Road:geo:-87.6060281,41.5426434
END:VEVENT
BEGIN:VEVENT
DTSTART;TZID=America/Chicago:20231115T180000
DTEND;TZID=America/Chicago:20231115T190000
DTSTAMP:20260424T024122
CREATED:20231108T123154Z
LAST-MODIFIED:20231108T123154Z
UID:10000539-1700071200-1700074800@www.brookwood167.org
SUMMARY:Bedtime Stories Family Event | HB
DESCRIPTION:
URL:https://www.brookwood167.org/event/bedtime-stories-family-event-hb/
LOCATION:Hickory Bend Elementary School\, 600 E. 191st Place\, Glenwood\, IL\, 60425\, United States
CATEGORIES:Brookwood 167,Hickory Bend Elementary School
ATTACH;FMTTYPE=image/jpeg:https://brookwood167.wpenginepowered.com/wp-content/uploads/2023/02/iStock-1288714591.jpg
GEO:41.541828;-87.5938195
X-APPLE-STRUCTURED-LOCATION;VALUE=URI;X-ADDRESS=Hickory Bend Elementary School 600 E. 191st Place Glenwood IL 60425 United States;X-APPLE-RADIUS=500;X-TITLE=600 E. 191st Place:geo:-87.5938195,41.541828
END:VEVENT
BEGIN:VEVENT
DTSTART;VALUE=DATE:20231116
DTEND;VALUE=DATE:20231117
DTSTAMP:20260424T024122
CREATED:20231110T161153Z
LAST-MODIFIED:20231110T161153Z
UID:10000543-1700092800-1700179199@www.brookwood167.org
SUMMARY:Fall Picture Re-Takes | LWS
DESCRIPTION:
URL:https://www.brookwood167.org/event/fall-picture-re-takes-lws/
LOCATION:Longwood Elementary School\, 441 Longwood Drive\, Glenwood\, IL\, 60425\, United States
CATEGORIES:Brookwood 167,Hickory Bend Elementary School
ATTACH;FMTTYPE=image/jpeg:https://brookwood167.wpenginepowered.com/wp-content/uploads/2023/09/iStock-1447224156.jpg
GEO:41.5543804;-87.6312402
X-APPLE-STRUCTURED-LOCATION;VALUE=URI;X-ADDRESS=Longwood Elementary School 441 Longwood Drive Glenwood IL 60425 United States;X-APPLE-RADIUS=500;X-TITLE=441 Longwood Drive:geo:-87.6312402,41.5543804
END:VEVENT
BEGIN:VEVENT
DTSTART;VALUE=DATE:20231117
DTEND;VALUE=DATE:20231118
DTSTAMP:20260424T024122
CREATED:20231108T123704Z
LAST-MODIFIED:20231108T123704Z
UID:10000540-1700179200-1700265599@www.brookwood167.org
SUMMARY:Fall Picture Re-Takes | HB
DESCRIPTION:
URL:https://www.brookwood167.org/event/fall-picture-re-takes-hb/
LOCATION:Hickory Bend Elementary School\, 600 E. 191st Place\, Glenwood\, IL\, 60425\, United States
CATEGORIES:Brookwood 167,Hickory Bend Elementary School
ATTACH;FMTTYPE=image/jpeg:https://brookwood167.wpenginepowered.com/wp-content/uploads/2023/09/iStock-1447224156.jpg
GEO:41.541828;-87.5938195
X-APPLE-STRUCTURED-LOCATION;VALUE=URI;X-ADDRESS=Hickory Bend Elementary School 600 E. 191st Place Glenwood IL 60425 United States;X-APPLE-RADIUS=500;X-TITLE=600 E. 191st Place:geo:-87.5938195,41.541828
END:VEVENT
BEGIN:VEVENT
DTSTART;VALUE=DATE:20231117
DTEND;VALUE=DATE:20231118
DTSTAMP:20260424T024122
CREATED:20231108T124726Z
LAST-MODIFIED:20231108T124726Z
UID:10000541-1700179200-1700265599@www.brookwood167.org
SUMMARY:1st Quarter Awards Assemblies | HB
DESCRIPTION:
URL:https://www.brookwood167.org/event/1st-quarter-awards-assemblies-hb/
LOCATION:Hickory Bend Elementary School\, 600 E. 191st Place\, Glenwood\, IL\, 60425\, United States
CATEGORIES:Brookwood 167,Hickory Bend Elementary School
ATTACH;FMTTYPE=image/jpeg:https://brookwood167.wpenginepowered.com/wp-content/uploads/2023/11/iStock-1430971954.jpg
GEO:41.541828;-87.5938195
X-APPLE-STRUCTURED-LOCATION;VALUE=URI;X-ADDRESS=Hickory Bend Elementary School 600 E. 191st Place Glenwood IL 60425 United States;X-APPLE-RADIUS=500;X-TITLE=600 E. 191st Place:geo:-87.5938195,41.541828
END:VEVENT
BEGIN:VEVENT
DTSTART;VALUE=DATE:20231117
DTEND;VALUE=DATE:20231118
DTSTAMP:20260424T024122
CREATED:20231110T161547Z
LAST-MODIFIED:20231110T161547Z
UID:10000544-1700179200-1700265599@www.brookwood167.org
SUMMARY:2nd Grade Field Trip to Mascot Museum | LWS
DESCRIPTION:
URL:https://www.brookwood167.org/event/2nd-grade-field-trip-to-mascot-museum-lws/
LOCATION:Longwood Elementary School\, 441 Longwood Drive\, Glenwood\, IL\, 60425\, United States
CATEGORIES:Brookwood 167,Longwood Elementary School
ATTACH;FMTTYPE=image/png:https://brookwood167.wpenginepowered.com/wp-content/uploads/2023/11/Mascot.png
GEO:41.5543804;-87.6312402
X-APPLE-STRUCTURED-LOCATION;VALUE=URI;X-ADDRESS=Longwood Elementary School 441 Longwood Drive Glenwood IL 60425 United States;X-APPLE-RADIUS=500;X-TITLE=441 Longwood Drive:geo:-87.6312402,41.5543804
END:VEVENT
END:VCALENDAR