BEGIN:VCALENDAR
VERSION:2.0
PRODID:-//Brookwood School District 167 - ECPv6.15.20//NONSGML v1.0//EN
CALSCALE:GREGORIAN
METHOD:PUBLISH
X-WR-CALNAME:Brookwood School District 167
X-ORIGINAL-URL:https://www.brookwood167.org
X-WR-CALDESC:Events for Brookwood School District 167
REFRESH-INTERVAL;VALUE=DURATION:PT1H
X-Robots-Tag:noindex
X-PUBLISHED-TTL:PT1H
BEGIN:VTIMEZONE
TZID:America/Chicago
BEGIN:DAYLIGHT
TZOFFSETFROM:-0600
TZOFFSETTO:-0500
TZNAME:CDT
DTSTART:20230312T080000
END:DAYLIGHT
BEGIN:STANDARD
TZOFFSETFROM:-0500
TZOFFSETTO:-0600
TZNAME:CST
DTSTART:20231105T070000
END:STANDARD
BEGIN:DAYLIGHT
TZOFFSETFROM:-0600
TZOFFSETTO:-0500
TZNAME:CDT
DTSTART:20240310T080000
END:DAYLIGHT
BEGIN:STANDARD
TZOFFSETFROM:-0500
TZOFFSETTO:-0600
TZNAME:CST
DTSTART:20241103T070000
END:STANDARD
BEGIN:DAYLIGHT
TZOFFSETFROM:-0600
TZOFFSETTO:-0500
TZNAME:CDT
DTSTART:20250309T080000
END:DAYLIGHT
BEGIN:STANDARD
TZOFFSETFROM:-0500
TZOFFSETTO:-0600
TZNAME:CST
DTSTART:20251102T070000
END:STANDARD
END:VTIMEZONE
BEGIN:VEVENT
DTSTART;VALUE=DATE:20241111
DTEND;VALUE=DATE:20241112
DTSTAMP:20260422T102741
CREATED:20241107T132207Z
LAST-MODIFIED:20241107T132207Z
UID:10000672-1731283200-1731369599@www.brookwood167.org
SUMMARY:Miles Of Smiles | BMS
DESCRIPTION:
URL:https://www.brookwood167.org/event/miles-of-smiles-bms/
LOCATION:Brookwood Middle School\, 200 E Glenwood-Lansing Road\, Glenwood\, IL\, 60425\, United States
CATEGORIES:Brookwood 167,Brookwood Middle School
ATTACH;FMTTYPE=image/jpeg:https://brookwood167.wpenginepowered.com/wp-content/uploads/2024/11/Miles-of-Smiles.jpg
GEO:41.5426158;-87.6060281
X-APPLE-STRUCTURED-LOCATION;VALUE=URI;X-ADDRESS=Brookwood Middle School 200 E Glenwood-Lansing Road Glenwood IL 60425 United States;X-APPLE-RADIUS=500;X-TITLE=200 E Glenwood-Lansing Road:geo:-87.6060281,41.5426158
END:VEVENT
BEGIN:VEVENT
DTSTART;VALUE=DATE:20241112
DTEND;VALUE=DATE:20241113
DTSTAMP:20260422T102741
CREATED:20241107T132426Z
LAST-MODIFIED:20241107T132426Z
UID:10000673-1731369600-1731455999@www.brookwood167.org
SUMMARY:Miles Of Smiles | BJHS
DESCRIPTION:
URL:https://www.brookwood167.org/event/miles-of-smiles-bjhs/
LOCATION:Brookwood Junior High School\, 201 Glenwood-Lansing Road\, Glenwood\, IL\, 60425\, United States
CATEGORIES:Brookwood 167,Brookwood Junior High School
ATTACH;FMTTYPE=image/jpeg:https://brookwood167.wpenginepowered.com/wp-content/uploads/2024/11/Miles-of-Smiles.jpg
GEO:41.5426434;-87.6060281
X-APPLE-STRUCTURED-LOCATION;VALUE=URI;X-ADDRESS=Brookwood Junior High School 201 Glenwood-Lansing Road Glenwood IL 60425 United States;X-APPLE-RADIUS=500;X-TITLE=201 Glenwood-Lansing Road:geo:-87.6060281,41.5426434
END:VEVENT
BEGIN:VEVENT
DTSTART;VALUE=DATE:20241113
DTEND;VALUE=DATE:20241115
DTSTAMP:20260422T102741
CREATED:20241107T132626Z
LAST-MODIFIED:20241107T132731Z
UID:10000675-1731456000-1731628799@www.brookwood167.org
SUMMARY:Miles Of Smiles | HB
DESCRIPTION:
URL:https://www.brookwood167.org/event/miles-of-smiles-hb/
LOCATION:Hickory Bend Elementary School\, 600 E. 191st Place\, Glenwood\, IL\, 60425\, United States
CATEGORIES:Brookwood 167,Hickory Bend Elementary School
ATTACH;FMTTYPE=image/jpeg:https://brookwood167.wpenginepowered.com/wp-content/uploads/2024/11/Miles-of-Smiles.jpg
GEO:41.541828;-87.5938195
X-APPLE-STRUCTURED-LOCATION;VALUE=URI;X-ADDRESS=Hickory Bend Elementary School 600 E. 191st Place Glenwood IL 60425 United States;X-APPLE-RADIUS=500;X-TITLE=600 E. 191st Place:geo:-87.5938195,41.541828
END:VEVENT
END:VCALENDAR